BEGIN:VCALENDAR
VERSION:2.0
PRODID:-//Jesus-Haus Herrnhut - ECPv6.3.6//NONSGML v1.0//EN
CALSCALE:GREGORIAN
METHOD:PUBLISH
X-ORIGINAL-URL:https://www.jh-herrnhut.de
X-WR-CALDESC:Events for Jesus-Haus Herrnhut
REFRESH-INTERVAL;VALUE=DURATION:PT1H
X-Robots-Tag:noindex
X-PUBLISHED-TTL:PT1H
BEGIN:VTIMEZONE
TZID:Europe/Berlin
BEGIN:DAYLIGHT
TZOFFSETFROM:+0100
TZOFFSETTO:+0200
TZNAME:CEST
DTSTART:20240331T010000
END:DAYLIGHT
BEGIN:STANDARD
TZOFFSETFROM:+0200
TZOFFSETTO:+0100
TZNAME:CET
DTSTART:20241027T010000
END:STANDARD
END:VTIMEZONE
BEGIN:VEVENT
DTSTART;TZID=Europe/Berlin:20241105T080000
DTEND;TZID=Europe/Berlin:20241105T083000
DTSTAMP:20260422T202918
CREATED:20241023T110325Z
LAST-MODIFIED:20241023T110325Z
UID:12245-1730793600-1730795400@www.jh-herrnhut.de
SUMMARY:Bibellesung
DESCRIPTION:
URL:https://www.jh-herrnhut.de/calendar/bibellesung-5/
END:VEVENT
BEGIN:VEVENT
DTSTART;TZID=Europe/Berlin:20241105T193000
DTEND;TZID=Europe/Berlin:20241105T210000
DTSTAMP:20260422T202918
CREATED:20241023T111032Z
LAST-MODIFIED:20241023T111032Z
UID:12279-1730835000-1730840400@www.jh-herrnhut.de
SUMMARY:Anbetung
DESCRIPTION:
URL:https://www.jh-herrnhut.de/calendar/anbetung-6/
END:VEVENT
END:VCALENDAR