BEGIN:VCALENDAR
VERSION:2.0
PRODID:-//Jesus-Haus Herrnhut - ECPv6.3.6//NONSGML v1.0//EN
CALSCALE:GREGORIAN
METHOD:PUBLISH
X-WR-CALNAME:Jesus-Haus Herrnhut
X-ORIGINAL-URL:https://www.jh-herrnhut.de
X-WR-CALDESC:Events for Jesus-Haus Herrnhut
REFRESH-INTERVAL;VALUE=DURATION:PT1H
X-Robots-Tag:noindex
X-PUBLISHED-TTL:PT1H
BEGIN:VTIMEZONE
TZID:Europe/Berlin
BEGIN:DAYLIGHT
TZOFFSETFROM:+0100
TZOFFSETTO:+0200
TZNAME:CEST
DTSTART:20240331T010000
END:DAYLIGHT
BEGIN:STANDARD
TZOFFSETFROM:+0200
TZOFFSETTO:+0100
TZNAME:CET
DTSTART:20241027T010000
END:STANDARD
END:VTIMEZONE
BEGIN:VEVENT
DTSTART;TZID=Europe/Berlin:20241126T080000
DTEND;TZID=Europe/Berlin:20241126T083000
DTSTAMP:20260422T221446
CREATED:20241023T110650Z
LAST-MODIFIED:20241023T110650Z
UID:12263-1732608000-1732609800@www.jh-herrnhut.de
SUMMARY:Bibellesung
DESCRIPTION:
URL:https://www.jh-herrnhut.de/calendar/bibellesung-14/
END:VEVENT
BEGIN:VEVENT
DTSTART;TZID=Europe/Berlin:20241126T193000
DTEND;TZID=Europe/Berlin:20241126T210000
DTSTAMP:20260422T221446
CREATED:20241023T111441Z
LAST-MODIFIED:20241023T111441Z
UID:12297-1732649400-1732654800@www.jh-herrnhut.de
SUMMARY:Anbetung
DESCRIPTION:
URL:https://www.jh-herrnhut.de/calendar/anbetung-15/
END:VEVENT
END:VCALENDAR