BEGIN:VCALENDAR
VERSION:2.0
PRODID:-//Jesus-Haus Herrnhut - ECPv6.3.6//NONSGML v1.0//EN
CALSCALE:GREGORIAN
METHOD:PUBLISH
X-ORIGINAL-URL:https://www.jh-herrnhut.de
X-WR-CALDESC:Events for Jesus-Haus Herrnhut
REFRESH-INTERVAL;VALUE=DURATION:PT1H
X-Robots-Tag:noindex
X-PUBLISHED-TTL:PT1H
BEGIN:VTIMEZONE
TZID:Europe/Berlin
BEGIN:DAYLIGHT
TZOFFSETFROM:+0100
TZOFFSETTO:+0200
TZNAME:CEST
DTSTART:20250330T010000
END:DAYLIGHT
BEGIN:STANDARD
TZOFFSETFROM:+0200
TZOFFSETTO:+0100
TZNAME:CET
DTSTART:20251026T010000
END:STANDARD
END:VTIMEZONE
BEGIN:VEVENT
DTSTART;TZID=Europe/Berlin:20250114T193000
DTEND;TZID=Europe/Berlin:20250114T203000
DTSTAMP:20260423T052526
CREATED:20250102T120841Z
LAST-MODIFIED:20250102T120841Z
UID:12634-1736883000-1736886600@www.jh-herrnhut.de
SUMMARY:Ökum. Gebetsabend\, Komensky Haus
DESCRIPTION:
URL:https://www.jh-herrnhut.de/calendar/okum-gebetsabend-komensky-haus/
END:VEVENT
END:VCALENDAR