BEGIN:VCALENDAR
VERSION:2.0
PRODID:-//Jesus-Haus Herrnhut - ECPv6.3.6//NONSGML v1.0//EN
CALSCALE:GREGORIAN
METHOD:PUBLISH
X-WR-CALNAME:Jesus-Haus Herrnhut
X-ORIGINAL-URL:https://www.jh-herrnhut.de
X-WR-CALDESC:Events for Jesus-Haus Herrnhut
REFRESH-INTERVAL;VALUE=DURATION:PT1H
X-Robots-Tag:noindex
X-PUBLISHED-TTL:PT1H
BEGIN:VTIMEZONE
TZID:Europe/Berlin
BEGIN:DAYLIGHT
TZOFFSETFROM:+0100
TZOFFSETTO:+0200
TZNAME:CEST
DTSTART:20250330T010000
END:DAYLIGHT
BEGIN:STANDARD
TZOFFSETFROM:+0200
TZOFFSETTO:+0100
TZNAME:CET
DTSTART:20251026T010000
END:STANDARD
END:VTIMEZONE
BEGIN:VEVENT
DTSTART;TZID=Europe/Berlin:20250714T080000
DTEND;TZID=Europe/Berlin:20250714T090000
DTSTAMP:20260423T133452
CREATED:20250625T140349Z
LAST-MODIFIED:20250625T140349Z
UID:14355-1752480000-1752483600@www.jh-herrnhut.de
SUMMARY:Gemeinsame Anbetung
DESCRIPTION:
URL:https://www.jh-herrnhut.de/calendar/gemeinsame-anbetung-18/
END:VEVENT
BEGIN:VEVENT
DTSTART;TZID=Europe/Berlin:20250714T163000
DTEND;TZID=Europe/Berlin:20250714T173000
DTSTAMP:20260423T133452
CREATED:20250625T140417Z
LAST-MODIFIED:20250625T140417Z
UID:14357-1752510600-1752514200@www.jh-herrnhut.de
SUMMARY:Europagebet
DESCRIPTION:
URL:https://www.jh-herrnhut.de/calendar/europagebet-18/
END:VEVENT
END:VCALENDAR