BEGIN:VCALENDAR
VERSION:2.0
PRODID:-//Jesus-Haus Herrnhut - ECPv6.3.6//NONSGML v1.0//EN
CALSCALE:GREGORIAN
METHOD:PUBLISH
X-ORIGINAL-URL:https://www.jh-herrnhut.de
X-WR-CALDESC:Events for Jesus-Haus Herrnhut
REFRESH-INTERVAL;VALUE=DURATION:PT1H
X-Robots-Tag:noindex
X-PUBLISHED-TTL:PT1H
BEGIN:VTIMEZONE
TZID:Europe/Berlin
BEGIN:DAYLIGHT
TZOFFSETFROM:+0100
TZOFFSETTO:+0200
TZNAME:CEST
DTSTART:20250330T010000
END:DAYLIGHT
BEGIN:STANDARD
TZOFFSETFROM:+0200
TZOFFSETTO:+0100
TZNAME:CET
DTSTART:20251026T010000
END:STANDARD
END:VTIMEZONE
BEGIN:VEVENT
DTSTART;TZID=Europe/Berlin:20250927T093000
DTEND;TZID=Europe/Berlin:20250927T163000
DTSTAMP:20260423T183131
CREATED:20250901T130511Z
LAST-MODIFIED:20250902T073720Z
UID:15213-1758965400-1758990600@www.jh-herrnhut.de
SUMMARY:Seminartag mit Guido Baltes
DESCRIPTION:Thema: Jesus und seine jüdische Welt – Wie die Begegnung mit dem Judentum uns hilft\, die Bibel besser zu verstehen \n+++ \nJesus war Jude – genauso wie die Apostel und fast alle Autoren des Alten und Neuen Testamentes. Aber was bedeutet das für unser Verständnis biblischer Texte heute? Gemeinsam mit dem Theologen\, Pfarrer und Liedermacher Guido Baltes machen wir uns auf den Weg zu einer Entdeckungsreise. Wir wollen das Judentum und die jüdische Kultur näher kennenlernen und dadurch ein tieferes Verständnis biblischer Texte gewinnen. \n+++ \nGuido Baltes lebt mit seiner Frau Steffi in Marburg. Er arbeitet als Dozent für Neues Testament am MBS Bibelseminar und ist Lehrbeauftragter für Neues Testament an der Philipps-Universität Marburg. \n+++ \nDatum: Samstag\, 27.09.2025 . 9.30 – 16.30 Uhr \nOrt: Jesus-Haus Herrnhut\, August-Bebel-Str. 13\, 02747 Herrnhut \n+++ \nDer Eintritt zum Seminar ist frei. Es wird eine Kaffee- und Mittagspause angeboten.\nWir erbitten jedoch eine Spende nach Möglichkeit für das Seminar und die Verpflegung.\nEine Anmeldung ist für das Seminar nicht erforderlich.
URL:https://www.jh-herrnhut.de/calendar/seminar-mit-guido-baltes/
END:VEVENT
END:VCALENDAR