BEGIN:VCALENDAR
VERSION:2.0
PRODID:-//Jesus-Haus Herrnhut - ECPv6.3.6//NONSGML v1.0//EN
CALSCALE:GREGORIAN
METHOD:PUBLISH
X-WR-CALNAME:Jesus-Haus Herrnhut
X-ORIGINAL-URL:https://www.jh-herrnhut.de
X-WR-CALDESC:Events for Jesus-Haus Herrnhut
REFRESH-INTERVAL;VALUE=DURATION:PT1H
X-Robots-Tag:noindex
X-PUBLISHED-TTL:PT1H
BEGIN:VTIMEZONE
TZID:Europe/Berlin
BEGIN:DAYLIGHT
TZOFFSETFROM:+0100
TZOFFSETTO:+0200
TZNAME:CEST
DTSTART:20250330T010000
END:DAYLIGHT
BEGIN:STANDARD
TZOFFSETFROM:+0200
TZOFFSETTO:+0100
TZNAME:CET
DTSTART:20251026T010000
END:STANDARD
END:VTIMEZONE
BEGIN:VEVENT
DTSTART;TZID=Europe/Berlin:20251104T080000
DTEND;TZID=Europe/Berlin:20251104T083000
DTSTAMP:20260423T104225
CREATED:20251103T152623Z
LAST-MODIFIED:20251103T152623Z
UID:15822-1762243200-1762245000@www.jh-herrnhut.de
SUMMARY:Gebet + Abendmahl
DESCRIPTION:
URL:https://www.jh-herrnhut.de/calendar/gebet-abendmahl/
END:VEVENT
BEGIN:VEVENT
DTSTART;TZID=Europe/Berlin:20251104T200000
DTEND;TZID=Europe/Berlin:20251104T210000
DTSTAMP:20260423T104225
CREATED:20251103T151657Z
LAST-MODIFIED:20251103T151657Z
UID:15783-1762286400-1762290000@www.jh-herrnhut.de
SUMMARY:Anbetung
DESCRIPTION:
URL:https://www.jh-herrnhut.de/calendar/anbetung-18/
END:VEVENT
END:VCALENDAR