BEGIN:VCALENDAR
VERSION:2.0
PRODID:-//Jesus-Haus Herrnhut - ECPv6.3.6//NONSGML v1.0//EN
CALSCALE:GREGORIAN
METHOD:PUBLISH
X-WR-CALNAME:Jesus-Haus Herrnhut
X-ORIGINAL-URL:https://www.jh-herrnhut.de
X-WR-CALDESC:Events for Jesus-Haus Herrnhut
REFRESH-INTERVAL;VALUE=DURATION:PT1H
X-Robots-Tag:noindex
X-PUBLISHED-TTL:PT1H
BEGIN:VTIMEZONE
TZID:Europe/Berlin
BEGIN:DAYLIGHT
TZOFFSETFROM:+0100
TZOFFSETTO:+0200
TZNAME:CEST
DTSTART:20250330T010000
END:DAYLIGHT
BEGIN:STANDARD
TZOFFSETFROM:+0200
TZOFFSETTO:+0100
TZNAME:CET
DTSTART:20251026T010000
END:STANDARD
END:VTIMEZONE
BEGIN:VEVENT
DTSTART;TZID=Europe/Berlin:20251105T080000
DTEND;TZID=Europe/Berlin:20251105T083000
DTSTAMP:20260423T121613
CREATED:20251103T152642Z
LAST-MODIFIED:20251103T152642Z
UID:15824-1762329600-1762331400@www.jh-herrnhut.de
SUMMARY:Gebet + Abendmahl
DESCRIPTION:
URL:https://www.jh-herrnhut.de/calendar/gebet-abendmahl-2/
END:VEVENT
BEGIN:VEVENT
DTSTART;TZID=Europe/Berlin:20251105T200000
DTEND;TZID=Europe/Berlin:20251105T210000
DTSTAMP:20260423T121613
CREATED:20251103T151716Z
LAST-MODIFIED:20251103T151716Z
UID:15785-1762372800-1762376400@www.jh-herrnhut.de
SUMMARY:Anbetung
DESCRIPTION:
URL:https://www.jh-herrnhut.de/calendar/anbetung-19/
END:VEVENT
END:VCALENDAR