BEGIN:VCALENDAR
VERSION:2.0
PRODID:-//Jesus-Haus Herrnhut - ECPv6.3.6//NONSGML v1.0//EN
CALSCALE:GREGORIAN
METHOD:PUBLISH
X-ORIGINAL-URL:https://www.jh-herrnhut.de
X-WR-CALDESC:Events for Jesus-Haus Herrnhut
REFRESH-INTERVAL;VALUE=DURATION:PT1H
X-Robots-Tag:noindex
X-PUBLISHED-TTL:PT1H
BEGIN:VTIMEZONE
TZID:Europe/Berlin
BEGIN:DAYLIGHT
TZOFFSETFROM:+0100
TZOFFSETTO:+0200
TZNAME:CEST
DTSTART:20250330T010000
END:DAYLIGHT
BEGIN:STANDARD
TZOFFSETFROM:+0200
TZOFFSETTO:+0100
TZNAME:CET
DTSTART:20251026T010000
END:STANDARD
END:VTIMEZONE
BEGIN:VEVENT
DTSTART;TZID=Europe/Berlin:20251121T100000
DTEND;TZID=Europe/Berlin:20251123T120000
DTSTAMP:20260423T133623
CREATED:20250918T075955Z
LAST-MODIFIED:20250918T075955Z
UID:15562-1763719200-1763899200@www.jh-herrnhut.de
SUMMARY:50 Stunden Lobpreis & Gebet
DESCRIPTION:
URL:https://www.jh-herrnhut.de/calendar/50-stunden-lobpreis-gebet-11/
END:VEVENT
BEGIN:VEVENT
DTSTART;TZID=Europe/Berlin:20251122T100000
DTEND;TZID=Europe/Berlin:20251122T113000
DTSTAMP:20260423T133623
CREATED:20251103T154014Z
LAST-MODIFIED:20251103T154014Z
UID:15858-1763805600-1763811000@www.jh-herrnhut.de
SUMMARY:Gang zum Abendmahlplatz (Skulpturenpfad)
DESCRIPTION:
URL:https://www.jh-herrnhut.de/calendar/gang-zum-abendmahlplatz-skulpturenpfad-3/
END:VEVENT
BEGIN:VEVENT
DTSTART;TZID=Europe/Berlin:20251122T200000
DTEND;TZID=Europe/Berlin:20251122T210000
DTSTAMP:20260423T133623
CREATED:20251103T152431Z
LAST-MODIFIED:20251103T152431Z
UID:15813-1763841600-1763845200@www.jh-herrnhut.de
SUMMARY:Anbetung
DESCRIPTION:
URL:https://www.jh-herrnhut.de/calendar/anbetung-33/
END:VEVENT
END:VCALENDAR