BEGIN:VCALENDAR
VERSION:2.0
PRODID:-//Jesus-Haus Herrnhut - ECPv6.3.6//NONSGML v1.0//EN
CALSCALE:GREGORIAN
METHOD:PUBLISH
X-ORIGINAL-URL:https://www.jh-herrnhut.de
X-WR-CALDESC:Events for Jesus-Haus Herrnhut
REFRESH-INTERVAL;VALUE=DURATION:PT1H
X-Robots-Tag:noindex
X-PUBLISHED-TTL:PT1H
BEGIN:VTIMEZONE
TZID:Europe/Berlin
BEGIN:DAYLIGHT
TZOFFSETFROM:+0100
TZOFFSETTO:+0200
TZNAME:CEST
DTSTART:20240331T010000
END:DAYLIGHT
BEGIN:STANDARD
TZOFFSETFROM:+0200
TZOFFSETTO:+0100
TZNAME:CET
DTSTART:20241027T010000
END:STANDARD
END:VTIMEZONE
BEGIN:VEVENT
DTSTART;TZID=Europe/Berlin:20240707T100000
DTEND;TZID=Europe/Berlin:20240707T120000
DTSTAMP:20260423T015209
CREATED:20240617T102859Z
LAST-MODIFIED:20240617T102859Z
UID:11793-1720346400-1720353600@www.jh-herrnhut.de
SUMMARY:Gottesdienst
DESCRIPTION:Predigt: \nBesondere Infos: \nKollekte:
URL:https://www.jh-herrnhut.de/calendar/gottesdienst-10/
END:VEVENT
BEGIN:VEVENT
DTSTART;TZID=Europe/Berlin:20240710T080000
DTEND;TZID=Europe/Berlin:20240710T200000
DTSTAMP:20260423T015209
CREATED:20240617T104048Z
LAST-MODIFIED:20240617T104048Z
UID:11808-1720598400-1720641600@www.jh-herrnhut.de
SUMMARY:Tag der Solidarität mit Israel
DESCRIPTION:Weitere Informationen folgen in Kürze
URL:https://www.jh-herrnhut.de/calendar/tag-der-solidaritat-mit-israel/
END:VEVENT
BEGIN:VEVENT
DTSTART;TZID=Europe/Berlin:20240711T193000
DTEND;TZID=Europe/Berlin:20240711T210000
DTSTAMP:20260423T015209
CREATED:20240617T103316Z
LAST-MODIFIED:20240617T103316Z
UID:11804-1720726200-1720731600@www.jh-herrnhut.de
SUMMARY:Heilungsabend
DESCRIPTION:
URL:https://www.jh-herrnhut.de/calendar/heilungsabend/
END:VEVENT
BEGIN:VEVENT
DTSTART;TZID=Europe/Berlin:20240714T100000
DTEND;TZID=Europe/Berlin:20240714T120000
DTSTAMP:20260423T015209
CREATED:20240617T102926Z
LAST-MODIFIED:20240710T055848Z
UID:11795-1720951200-1720958400@www.jh-herrnhut.de
SUMMARY:Gottesdienst
DESCRIPTION:Predigt: Gottfried \nBesondere Infos: \nKollekte: Gemeinde
URL:https://www.jh-herrnhut.de/calendar/gottesdienst-11/
END:VEVENT
BEGIN:VEVENT
DTSTART;TZID=Europe/Berlin:20240721T100000
DTEND;TZID=Europe/Berlin:20240721T120000
DTSTAMP:20260423T015209
CREATED:20240617T102949Z
LAST-MODIFIED:20240710T055954Z
UID:11797-1721556000-1721563200@www.jh-herrnhut.de
SUMMARY:Gottesdienst
DESCRIPTION:Predigt: Joel \nBesondere Infos: Abendmahl/ Verabschiedung Langes in Ruhestand \nKollekte: Gemeinde
URL:https://www.jh-herrnhut.de/calendar/gottesdienst-12/
END:VEVENT
BEGIN:VEVENT
DTSTART;TZID=Europe/Berlin:20240725T190000
DTEND;TZID=Europe/Berlin:20240725T200000
DTSTAMP:20260423T015209
CREATED:20240617T103435Z
LAST-MODIFIED:20240617T103435Z
UID:11806-1721934000-1721937600@www.jh-herrnhut.de
SUMMARY:Wächtergebet
DESCRIPTION:
URL:https://www.jh-herrnhut.de/calendar/wachtergebet-4/
END:VEVENT
BEGIN:VEVENT
DTSTART;TZID=Europe/Berlin:20240726T193000
DTEND;TZID=Europe/Berlin:20240728T200000
DTSTAMP:20260423T015209
CREATED:20240411T103816Z
LAST-MODIFIED:20240411T103830Z
UID:11361-1722022200-1722196800@www.jh-herrnhut.de
SUMMARY:50 Stunden Lobpreis&Gebet
DESCRIPTION:50+ Stunden Lobpreis und Gebet
URL:https://www.jh-herrnhut.de/calendar/50-stunden-lobpreisgebet/
END:VEVENT
BEGIN:VEVENT
DTSTART;TZID=Europe/Berlin:20240728T100000
DTEND;TZID=Europe/Berlin:20240728T120000
DTSTAMP:20260423T015209
CREATED:20240617T103019Z
LAST-MODIFIED:20240710T060022Z
UID:11799-1722160800-1722168000@www.jh-herrnhut.de
SUMMARY:Gottesdienst
DESCRIPTION:Predigt: Ingo \nBesondere Infos: \nKollekte: Missionwerk Josua
URL:https://www.jh-herrnhut.de/calendar/gottesdienst-13/
END:VEVENT
END:VCALENDAR