BEGIN:VCALENDAR
VERSION:2.0
PRODID:-//Jesus-Haus Herrnhut - ECPv6.3.6//NONSGML v1.0//EN
CALSCALE:GREGORIAN
METHOD:PUBLISH
X-WR-CALNAME:Jesus-Haus Herrnhut
X-ORIGINAL-URL:https://www.jh-herrnhut.de
X-WR-CALDESC:Events for Jesus-Haus Herrnhut
REFRESH-INTERVAL;VALUE=DURATION:PT1H
X-Robots-Tag:noindex
X-PUBLISHED-TTL:PT1H
BEGIN:VTIMEZONE
TZID:Europe/Berlin
BEGIN:DAYLIGHT
TZOFFSETFROM:+0100
TZOFFSETTO:+0200
TZNAME:CEST
DTSTART:20240331T010000
END:DAYLIGHT
BEGIN:STANDARD
TZOFFSETFROM:+0200
TZOFFSETTO:+0100
TZNAME:CET
DTSTART:20241027T010000
END:STANDARD
END:VTIMEZONE
BEGIN:VEVENT
DTSTART;VALUE=DATE:20240830
DTEND;VALUE=DATE:20240902
DTSTAMP:20260423T052420
CREATED:20240502T104440Z
LAST-MODIFIED:20240502T104440Z
UID:11535-1724976000-1725235199@www.jh-herrnhut.de
SUMMARY:Gemeinde Ausflug
DESCRIPTION:
URL:https://www.jh-herrnhut.de/calendar/gemeinde-ausflug/
END:VEVENT
BEGIN:VEVENT
DTSTART;TZID=Europe/Berlin:20240901T100000
DTEND;TZID=Europe/Berlin:20240901T113000
DTSTAMP:20260423T052420
CREATED:20240724T110551Z
LAST-MODIFIED:20240724T110551Z
UID:11935-1725184800-1725190200@www.jh-herrnhut.de
SUMMARY:Gemeinsame Anbetung
DESCRIPTION:
URL:https://www.jh-herrnhut.de/calendar/gemeinsame-anbetung-3/
END:VEVENT
BEGIN:VEVENT
DTSTART;TZID=Europe/Berlin:20240905T193000
DTEND;TZID=Europe/Berlin:20240905T210000
DTSTAMP:20260423T052420
CREATED:20240904T181332Z
LAST-MODIFIED:20240904T181332Z
UID:12037-1725564600-1725570000@www.jh-herrnhut.de
SUMMARY:Gemeinsame Lobpreiszeit
DESCRIPTION:
URL:https://www.jh-herrnhut.de/calendar/gemeinsame-lobpreiszeit-2/
END:VEVENT
BEGIN:VEVENT
DTSTART;TZID=Europe/Berlin:20240909T163000
DTEND;TZID=Europe/Berlin:20240909T173000
DTSTAMP:20260423T052420
CREATED:20240904T181655Z
LAST-MODIFIED:20240904T181655Z
UID:12043-1725899400-1725903000@www.jh-herrnhut.de
SUMMARY:Europagebet
DESCRIPTION:Im Gebetsraum der Nationen
URL:https://www.jh-herrnhut.de/calendar/europagebet/
END:VEVENT
BEGIN:VEVENT
DTSTART;TZID=Europe/Berlin:20240923T163000
DTEND;TZID=Europe/Berlin:20240923T173000
DTSTAMP:20260423T052420
CREATED:20240904T181725Z
LAST-MODIFIED:20240904T181725Z
UID:12045-1727109000-1727112600@www.jh-herrnhut.de
SUMMARY:Europagebet
DESCRIPTION:Im Gebetsraum der Nationen
URL:https://www.jh-herrnhut.de/calendar/europagebet-2/
END:VEVENT
BEGIN:VEVENT
DTSTART;TZID=Europe/Berlin:20240926T190000
DTEND;TZID=Europe/Berlin:20240926T200000
DTSTAMP:20260423T052420
CREATED:20240904T181458Z
LAST-MODIFIED:20240904T181508Z
UID:12041-1727377200-1727380800@www.jh-herrnhut.de
SUMMARY:Wächtergebet
DESCRIPTION:
URL:https://www.jh-herrnhut.de/calendar/wachtergebet-6/
END:VEVENT
BEGIN:VEVENT
DTSTART;TZID=Europe/Berlin:20240927T193000
DTEND;TZID=Europe/Berlin:20240929T200000
DTSTAMP:20260423T052420
CREATED:20240411T103941Z
LAST-MODIFIED:20240411T103941Z
UID:11365-1727465400-1727640000@www.jh-herrnhut.de
SUMMARY:50 Stunden Lobpreis&Gebet
DESCRIPTION:50+ Stunden Lobpreis und Gebet
URL:https://www.jh-herrnhut.de/calendar/50-stunden-lobpreisgebet-3/
END:VEVENT
BEGIN:VEVENT
DTSTART;TZID=Europe/Berlin:20240928T190000
DTEND;TZID=Europe/Berlin:20240928T210000
DTSTAMP:20260423T052420
CREATED:20240904T182205Z
LAST-MODIFIED:20240904T182205Z
UID:12058-1727550000-1727557200@www.jh-herrnhut.de
SUMMARY:Lobpreis und Input Abend
DESCRIPTION:Lobpreis und Input Abend mit den Pastoren Melvin & Denise Mccleese und ihrem Team von “New Life” Gemeinde in Virginia
URL:https://www.jh-herrnhut.de/calendar/lobpreis-und-input-abend/
END:VEVENT
END:VCALENDAR